BEGIN:VCALENDAR
VERSION:2.0
PRODID:-//パプリカミュージックスタジオ 湘南 平塚
CALSCALE:GREGORIAN
METHOD:PUBLISH
X-WR-CALNAME:パプリカミュージックスタジオ 湘南 平塚
X-ORIGINAL-URL:https://paprica.studio/item/pa-event-2409/
X-WR-CALDESC:0から始める！イベント音響講座 〜応用編〜
BEGIN:VEVENT
DTSTART;TZID=Asia/Tokyo:20241003T183000
DTEND;TZID=Asia/Tokyo:20241003T193000
SUMMARY:0から始める！イベント音響講座 〜応用編〜
DESCRIPTION:ここまで出来れば学祭や社内ライブイベントの音響も怖くない！ 初級編で組み立てたPA機材を使って実際に色々な音を出してみたり、音を変えてみたり、調整してみたりする講座です。 基本的な設営知識はあるけれどミキサーの使い方がイマイチ分からない、ミキサーは多少使えるけどイコライザーとかリバーブとか難しいからいつも使っていない、という方にオススメ！ もちろんそこまでいってないけどどんなことやるのか見てみたい、という方のご参加もOKです！ みんなで音を出しながら楽しく音響を学んでいきましょう♪
URL:https://paprica.studio/item/pa-event-2409/
LOCATION:パプリカミュージックスタジオ
END:VEVENT
END:VCALENDAR
